BEGIN:VCALENDAR
VERSION:2.0
PRODID:-//wp-events-plugin.com//7.2.3.1//EN
TZID:Europe/Zurich
X-WR-TIMEZONE:Europe/Zurich
BEGIN:VEVENT
UID:21@zwischenwelt.ch
DTSTART;TZID=Europe/Zurich:20230201T190000
DTEND;TZID=Europe/Zurich:20230201T213000
DTSTAMP:20220825T150727Z
URL:https://www.zwischenwelt.ch/events/crafting-2023-die-hexenschule-grupp
 e-mittwoch-2/
SUMMARY:Crafting 2023 - Die Hexenschule - Gruppe Mittwoch
DESCRIPTION:In "Crafting" treffen alte Traditionen auf moderne Zeiten. Hexe
 nschule\, Lebensschule\, für ein magischeres\, selbstbewussteres Leben mi
 t Magie und Mystik
CATEGORIES:Hexenschule
LOCATION:Zwischenwelt\, Bruchstrasse 47\, Luzern\, Luzern\, 6003\, Schweiz
GEO:47.0489237;8.301319199999966
X-APPLE-STRUCTURED-LOCATION;VALUE=URI;X-ADDRESS=Bruchstrasse 47\, Luzern\, 
 Luzern\, 6003\, Schweiz;X-APPLE-RADIUS=100;X-TITLE=Zwischenwelt:geo:47.048
 9237,8.301319199999966
END:VEVENT
BEGIN:VEVENT
UID:22@zwischenwelt.ch
DTSTART;TZID=Europe/Zurich:20230203T190000
DTEND;TZID=Europe/Zurich:20230203T213000
DTSTAMP:20220825T150234Z
URL:https://www.zwischenwelt.ch/events/crafting-2023-die-hexenschule-grupp
 e-freitag/
SUMMARY:Crafting 2023 - Die Hexenschule - Gruppe Freitag
DESCRIPTION:In "Crafting" treffen alte Traditionen auf moderne Zeiten. Hexe
 nschule\, Lebensschule\, für ein magischeres\, selbstbewussteres Leben mi
 t Magie und Mystik
CATEGORIES:Hexenschule
LOCATION:Zwischenwelt\, Bruchstrasse 47\, Luzern\, Luzern\, 6003\, Schweiz
GEO:47.0489237;8.301319199999966
X-APPLE-STRUCTURED-LOCATION;VALUE=URI;X-ADDRESS=Bruchstrasse 47\, Luzern\, 
 Luzern\, 6003\, Schweiz;X-APPLE-RADIUS=100;X-TITLE=Zwischenwelt:geo:47.048
 9237,8.301319199999966
END:VEVENT
BEGIN:VEVENT
UID:25@zwischenwelt.ch
DTSTART;TZID=Europe/Zurich:20231112T130000
DTEND;TZID=Europe/Zurich:20231112T180000
DTSTAMP:20231013T125948Z
URL:https://www.zwischenwelt.ch/events/runenkurs-fuer-einsteiger/
SUMMARY:Runenkurs für Einsteiger
DESCRIPTION:Lerne die Runen und ihre Mysterien und Bedeutungen kennen
CATEGORIES:Coaching Workshops,Hexenschule
LOCATION:Zwischenwelt\, Bruchstrasse 47\, Luzern\, 6003\, Schweiz
GEO:47.0489237;8.301319199999966
X-APPLE-STRUCTURED-LOCATION;VALUE=URI;X-ADDRESS=Bruchstrasse 47\, Luzern\, 
 6003\, Schweiz;X-APPLE-RADIUS=100;X-TITLE=Zwischenwelt:geo:47.0489237,8.30
 1319199999966
END:VEVENT
BEGIN:VEVENT
UID:26@zwischenwelt.ch
DTSTART;TZID=Europe/Zurich:20240202T190000
DTEND;TZID=Europe/Zurich:20240202T213000
DTSTAMP:20240105T152909Z
URL:https://www.zwischenwelt.ch/events/crafting-2024-die-hexenschule-freit
 agsgruppe/
SUMMARY:Crafting 2024 - Die Hexenschule - Freitagsgruppe
DESCRIPTION:In "Crafting" treffen alte Traditionen auf moderne Zeiten. Hexe
 nschule\, Lebensschule\, für ein magischeres\, selbstbewussteres Leben mi
 t Magie und Mystik
CATEGORIES:Coaching Workshops,Hexenschule
LOCATION:Zwischenwelt\, Bruchstrasse 47\, Luzern\, Luzern\, 6003\, Schweiz
GEO:47.0489237;8.301319199999966
X-APPLE-STRUCTURED-LOCATION;VALUE=URI;X-ADDRESS=Bruchstrasse 47\, Luzern\, 
 Luzern\, 6003\, Schweiz;X-APPLE-RADIUS=100;X-TITLE=Zwischenwelt:geo:47.048
 9237,8.301319199999966
END:VEVENT
BEGIN:VEVENT
UID:23@zwischenwelt.ch
DTSTART;TZID=Europe/Zurich:20240207T190000
DTEND;TZID=Europe/Zurich:20240207T213000
DTSTAMP:20231115T080326Z
URL:https://www.zwischenwelt.ch/events/crafting-2024-die-hexenschule-grupp
 e-mittwoch/
SUMMARY:Crafting 2024 - Die Hexenschule - Gruppe Mittwoch
DESCRIPTION:In "Crafting" treffen alte Traditionen auf moderne Zeiten. Hexe
 nschule\, Lebensschule\, für ein magischeres\, selbstbewussteres Leben mi
 t Magie und Mystik
CATEGORIES:Coaching Workshops,Hexenschule
LOCATION:Zwischenwelt\, Bruchstrasse 47\, Luzern\, Luzern\, 6003\, Schweiz
GEO:47.0489237;8.301319199999966
X-APPLE-STRUCTURED-LOCATION;VALUE=URI;X-ADDRESS=Bruchstrasse 47\, Luzern\, 
 Luzern\, 6003\, Schweiz;X-APPLE-RADIUS=100;X-TITLE=Zwischenwelt:geo:47.048
 9237,8.301319199999966
END:VEVENT
BEGIN:VEVENT
UID:27@zwischenwelt.ch
DTSTART;TZID=Europe/Zurich:20250205T190000
DTEND;TZID=Europe/Zurich:20250205T213000
DTSTAMP:20241116T111846Z
URL:https://www.zwischenwelt.ch/events/crafting-2025-die-hexenschule-grupp
 e-mittwoch/
SUMMARY:Crafting 2025 - Die Hexenschule - Gruppe Mittwoch
DESCRIPTION:In "Crafting" treffen alte Traditionen auf moderne Zeiten. Hexe
 nschule\, Lebensschule\, für ein magischeres\, selbstbewussteres Leben mi
 t Magie und Mystik
CATEGORIES:Coaching Workshops,Hexenschule
LOCATION:Zwischenwelt\, Bruchstrasse 47\, Luzern\, Luzern\, 6003\, Schweiz
GEO:47.0489237;8.301319199999966
X-APPLE-STRUCTURED-LOCATION;VALUE=URI;X-ADDRESS=Bruchstrasse 47\, Luzern\, 
 Luzern\, 6003\, Schweiz;X-APPLE-RADIUS=100;X-TITLE=Zwischenwelt:geo:47.048
 9237,8.301319199999966
END:VEVENT
BEGIN:VEVENT
UID:28@zwischenwelt.ch
DTSTART;TZID=Europe/Zurich:20250207T190000
DTEND;TZID=Europe/Zurich:20250207T213000
DTSTAMP:20241114T111944Z
URL:https://www.zwischenwelt.ch/events/crafting-2025-die-hexenschule-grupp
 e-freitag/
SUMMARY:Crafting 2025 - Die Hexenschule - Gruppe Freitag
DESCRIPTION:In "Crafting" treffen alte Traditionen auf moderne Zeiten. Hexe
 nschule\, Lebensschule\, für ein magischeres\, selbstbewussteres Leben mi
 t Magie und Mystik
CATEGORIES:Coaching Workshops,Hexenschule
LOCATION:Zwischenwelt\, Bruchstrasse 47\, Luzern\, Luzern\, 6003\, Schweiz
GEO:47.0489237;8.301319199999966
X-APPLE-STRUCTURED-LOCATION;VALUE=URI;X-ADDRESS=Bruchstrasse 47\, Luzern\, 
 Luzern\, 6003\, Schweiz;X-APPLE-RADIUS=100;X-TITLE=Zwischenwelt:geo:47.048
 9237,8.301319199999966
END:VEVENT
BEGIN:VEVENT
UID:31@zwischenwelt.ch
DTSTART;TZID=Europe/Zurich:20260206T190000
DTEND;TZID=Europe/Zurich:20270115T213000
DTSTAMP:20251210T115107Z
URL:https://www.zwischenwelt.ch/events/crafting-2026-die-hexenschule-grupp
 e-freitag-2/
SUMMARY:Crafting 2026 - Die Hexenschule - Gruppe Freitag
DESCRIPTION:In "Crafting" treffen alte Traditionen auf moderne Zeiten. Hexe
 nschule\, Lebensschule\, für ein magischeres\, selbstbewussteres Leben mi
 t Magie und Mystik
CATEGORIES:Coaching Workshops,Hexenschule
LOCATION:Zwischenwelt\, Bruchstrasse 47\, Luzern\, Luzern\, 6003\, Schweiz
GEO:47.0489237;8.301319199999966
X-APPLE-STRUCTURED-LOCATION;VALUE=URI;X-ADDRESS=Bruchstrasse 47\, Luzern\, 
 Luzern\, 6003\, Schweiz;X-APPLE-RADIUS=100;X-TITLE=Zwischenwelt:geo:47.048
 9237,8.301319199999966
END:VEVENT
BEGIN:VTIMEZONE
TZID:Europe/Zurich
X-LIC-LOCATION:Europe/Zurich
BEGIN:STANDARD
DTSTART:20221030T020000
TZOFFSETFROM:+0200
TZOFFSETTO:+0100
TZNAME:CET
END:STANDARD
BEGIN:DAYLIGHT
DTSTART:20230326T030000
TZOFFSETFROM:+0100
TZOFFSETTO:+0200
TZNAME:CEST
END:DAYLIGHT
BEGIN:STANDARD
DTSTART:20231029T020000
TZOFFSETFROM:+0200
TZOFFSETTO:+0100
TZNAME:CET
END:STANDARD
BEGIN:DAYLIGHT
DTSTART:20240331T030000
TZOFFSETFROM:+0100
TZOFFSETTO:+0200
TZNAME:CEST
END:DAYLIGHT
BEGIN:STANDARD
DTSTART:20241027T020000
TZOFFSETFROM:+0200
TZOFFSETTO:+0100
TZNAME:CET
END:STANDARD
BEGIN:DAYLIGHT
DTSTART:20250330T030000
TZOFFSETFROM:+0100
TZOFFSETTO:+0200
TZNAME:CEST
END:DAYLIGHT
BEGIN:STANDARD
DTSTART:20251026T020000
TZOFFSETFROM:+0200
TZOFFSETTO:+0100
TZNAME:CET
END:STANDARD
BEGIN:DAYLIGHT
DTSTART:20260329T030000
TZOFFSETFROM:+0100
TZOFFSETTO:+0200
TZNAME:CEST
END:DAYLIGHT
BEGIN:STANDARD
DTSTART:20261025T020000
TZOFFSETFROM:+0200
TZOFFSETTO:+0100
TZNAME:CET
END:STANDARD
END:VTIMEZONE
END:VCALENDAR